BEGIN:VCALENDAR
VERSION:2.0
PRODID:-//Inscripcions URV//NONSGML v1.0//EN
CALSCALE:GREGORIAN
METHOD:PUBLISH
X-WR-CALNAME:Inscripcions URV
X-WR-TIMEZONE:UTC
BEGIN:VEVENT
UID:20260630070000-152619@inscripcions.urv.cat
DTSTAMP:20260630T070000Z
DTSTART:20260630T070000Z
DTEND:20260730T120000Z
LOCATION:Carrer de l'Escorxador\, Tarragona\, Espanya
SUMMARY:Campus fisicomatemàtic 2026
DESCRIPTION:Campus fisicomatemàtic 2026 - http://inscripcions.urv.cat/event_detail/152619/dates
END:VEVENT
END:VCALENDAR
